BEGIN:VCALENDAR
PRODID:-//ibbc10461//EN
VERSION:2.0
BEGIN:VEVENT
SUMMARY:BCVA: TIMED ONLINE AUCTION: Perfume and Fragrances *VAT Not Applicable on Hammer*
PRIORITY:0
CLASS:PUBLIC
DTSTART:20260506T110000Z
DTEND:20260512T110000Z
DESCRIPTION:
X-ALT-DESC;FMTTYPE=text/html:
LOCATION:BCVA, Bristol Commercial Valuers, Unit 2, Bonville Trading Estate, Brislington, Bristol, BS4 5QU, United Kingdom
END:VEVENT
END:VCALENDAR